BEGIN:VCALENDAR
VERSION:2.0
PRODID:-//CIYMS Cricket Club - ECPv6.6.1//NONSGML v1.0//EN
CALSCALE:GREGORIAN
METHOD:PUBLISH
X-WR-CALNAME:CIYMS Cricket Club
X-ORIGINAL-URL:https://ciymscricketclub.org
X-WR-CALDESC:Events for CIYMS Cricket Club
REFRESH-INTERVAL;VALUE=DURATION:PT1H
X-Robots-Tag:noindex
X-PUBLISHED-TTL:PT1H
BEGIN:VTIMEZONE
TZID:UTC
BEGIN:STANDARD
TZOFFSETFROM:+0000
TZOFFSETTO:+0000
TZNAME:UTC
DTSTART:20190101T000000
END:STANDARD
END:VTIMEZONE
BEGIN:VEVENT
DTSTART;VALUE=DATE:20190831
DTEND;VALUE=DATE:20190901
DTSTAMP:20260423T083349
CREATED:20190507T100419Z
LAST-MODIFIED:20190507T100550Z
UID:9308-1567209600-1567295999@ciymscricketclub.org
SUMMARY:CIYMS III v Muckamore III
DESCRIPTION:
URL:https://ciymscricketclub.org/fixture/ciyms-iii-v-muckamore-iii/
LOCATION:CIYMS Cricket Club\, 91 Circular Rd\, Belfast\, Antrim\, BT4 2GD\, United Kingdom
CATEGORIES:NCU Junior League 3
END:VEVENT
BEGIN:VEVENT
DTSTART;VALUE=DATE:20190803
DTEND;VALUE=DATE:20190804
DTSTAMP:20260423T083349
CREATED:20190507T100304Z
LAST-MODIFIED:20190507T100304Z
UID:9306-1564790400-1564876799@ciymscricketclub.org
SUMMARY:Templepatrick II v CIYMS III
DESCRIPTION:
URL:https://ciymscricketclub.org/fixture/templepatrick-ii-v-ciyms-iii/
LOCATION:Templepatrick Cricket Club\, The Cloughan\, Doagh Road\, Ballyclare\, Antrim\, BT39 9JD\, United Kingdom
CATEGORIES:NCU Junior League 3
END:VEVENT
BEGIN:VEVENT
DTSTART;VALUE=DATE:20190714
DTEND;VALUE=DATE:20190715
DTSTAMP:20260423T083349
CREATED:20190507T095841Z
LAST-MODIFIED:20190507T095852Z
UID:9304-1563062400-1563148799@ciymscricketclub.org
SUMMARY:CIYMS III v CSNI III
DESCRIPTION:
URL:https://ciymscricketclub.org/fixture/ciyms-iii-v-csni-iii/
LOCATION:CIYMS Cricket Club\, 91 Circular Rd\, Belfast\, Antrim\, BT4 2GD\, United Kingdom
CATEGORIES:NCU Junior League 3
END:VEVENT
BEGIN:VEVENT
DTSTART;VALUE=DATE:20190713
DTEND;VALUE=DATE:20190714
DTSTAMP:20260423T083349
CREATED:20190507T095733Z
LAST-MODIFIED:20190507T095733Z
UID:9302-1562976000-1563062399@ciymscricketclub.org
SUMMARY:CIYMS III v Holywood II
DESCRIPTION:
URL:https://ciymscricketclub.org/fixture/ciyms-iii-v-holywood-ii/
LOCATION:CIYMS Cricket Club\, 91 Circular Rd\, Belfast\, Antrim\, BT4 2GD\, United Kingdom
CATEGORIES:NCU Junior League 3
END:VEVENT
BEGIN:VEVENT
DTSTART;VALUE=DATE:20190706
DTEND;VALUE=DATE:20190707
DTSTAMP:20260423T083349
CREATED:20190507T095625Z
LAST-MODIFIED:20190507T095626Z
UID:9300-1562371200-1562457599@ciymscricketclub.org
SUMMARY:Muckamore III v CIYMS III
DESCRIPTION:
URL:https://ciymscricketclub.org/fixture/muckamore-iii-v-ciyms-iii/
LOCATION:Muckamore Cricket & Lawn Tennis Club\, Technology Park\, 5a Nursery Park\, Antrim\, BT41 1QS\, United Kingdom
CATEGORIES:NCU Junior League 3
END:VEVENT
BEGIN:VEVENT
DTSTART;VALUE=DATE:20190629
DTEND;VALUE=DATE:20190630
DTSTAMP:20260423T083349
CREATED:20190507T095434Z
LAST-MODIFIED:20190507T095434Z
UID:9298-1561766400-1561852799@ciymscricketclub.org
SUMMARY:Cregagh II v CIYMS III
DESCRIPTION:
URL:https://ciymscricketclub.org/fixture/cregagh-ii-v-ciyms-iii/
LOCATION:Cregagh Cricket Club\, Cregagh Memorial Recreation Ground\, Gibson Park Avenue\, Belfast\, Antrim\, BT6 9GL\, United Kingdom
CATEGORIES:NCU Junior League 3
END:VEVENT
BEGIN:VEVENT
DTSTART;VALUE=DATE:20190615
DTEND;VALUE=DATE:20190616
DTSTAMP:20260423T083349
CREATED:20190507T095325Z
LAST-MODIFIED:20190507T095325Z
UID:9296-1560556800-1560643199@ciymscricketclub.org
SUMMARY:CSNI III v CIYMS III
DESCRIPTION:
URL:https://ciymscricketclub.org/fixture/csni-iii-v-ciyms-iii/
LOCATION:CSNI Cricket Club\, The Pavilion\, Stormont Estate\, Upper Newtownards Road\, Belfast\, Antrim\, BT4 3TA\, United Kingdom
CATEGORIES:NCU Junior League 3
END:VEVENT
BEGIN:VEVENT
DTSTART;VALUE=DATE:20190609
DTEND;VALUE=DATE:20190610
DTSTAMP:20260423T083349
CREATED:20190507T095229Z
LAST-MODIFIED:20190507T095229Z
UID:9294-1560038400-1560124799@ciymscricketclub.org
SUMMARY:CIYMS III v Laurelvale II
DESCRIPTION:
URL:https://ciymscricketclub.org/fixture/ciyms-iii-v-laurelvale-ii/
LOCATION:CIYMS Cricket Club\, 91 Circular Rd\, Belfast\, Antrim\, BT4 2GD\, United Kingdom
CATEGORIES:NCU Junior League 3
END:VEVENT
BEGIN:VEVENT
DTSTART;VALUE=DATE:20190518
DTEND;VALUE=DATE:20190519
DTSTAMP:20260423T083349
CREATED:20190219T144948Z
LAST-MODIFIED:20190219T144948Z
UID:9151-1558137600-1558223999@ciymscricketclub.org
SUMMARY:CIYMS III v Templepatrick II
DESCRIPTION:
URL:https://ciymscricketclub.org/fixture/ciyms-iii-v-templepatrick-ii/
LOCATION:CIYMS Cricket Club\, 91 Circular Rd\, Belfast\, Antrim\, BT4 2GD\, United Kingdom
CATEGORIES:NCU Junior League 3
END:VEVENT
BEGIN:VEVENT
DTSTART;VALUE=DATE:20190511
DTEND;VALUE=DATE:20190512
DTSTAMP:20260423T083349
CREATED:20190219T144853Z
LAST-MODIFIED:20190219T144853Z
UID:9149-1557532800-1557619199@ciymscricketclub.org
SUMMARY:CIYMS III v Cregagh II
DESCRIPTION:
URL:https://ciymscricketclub.org/fixture/ciyms-iii-v-cregagh-ii/
LOCATION:CIYMS Cricket Club\, 91 Circular Rd\, Belfast\, Antrim\, BT4 2GD\, United Kingdom
CATEGORIES:NCU Junior League 3
END:VEVENT
BEGIN:VEVENT
DTSTART;VALUE=DATE:20190506
DTEND;VALUE=DATE:20190507
DTSTAMP:20260423T083349
CREATED:20190219T144815Z
LAST-MODIFIED:20190219T144815Z
UID:9147-1557100800-1557187199@ciymscricketclub.org
SUMMARY:CIYMS III v Ballymena II
DESCRIPTION:
URL:https://ciymscricketclub.org/fixture/ciyms-iii-v-ballymena-ii/
LOCATION:CIYMS Cricket Club\, 91 Circular Rd\, Belfast\, Antrim\, BT4 2GD\, United Kingdom
CATEGORIES:NCU Junior League 3
END:VEVENT
BEGIN:VEVENT
DTSTART;VALUE=DATE:20190504
DTEND;VALUE=DATE:20190505
DTSTAMP:20260423T083349
CREATED:20190219T144724Z
LAST-MODIFIED:20190219T144724Z
UID:9145-1556928000-1557014399@ciymscricketclub.org
SUMMARY:Holywood II v CIYMS III
DESCRIPTION:
URL:https://ciymscricketclub.org/fixture/holywood-ii-v-ciyms-iii/
LOCATION:Holywood Cricket Club\, Seapark Oval\, Seapark Road\,\, Holywood\, Down\, BT18 0LL
CATEGORIES:NCU Junior League 3
END:VEVENT
BEGIN:VEVENT
DTSTART;VALUE=DATE:20190427
DTEND;VALUE=DATE:20190428
DTSTAMP:20260423T083349
CREATED:20190219T144623Z
LAST-MODIFIED:20190219T144623Z
UID:9143-1556323200-1556409599@ciymscricketclub.org
SUMMARY:Ballymena II v CIYMS III
DESCRIPTION:
URL:https://ciymscricketclub.org/fixture/ballymena-ii-v-ciyms-iii/
LOCATION:Ballymena Rugby & Cricket Club\, 209 Raceview Rd\, Ballymena\, Antrim\, BT42 4HU\, United Kingdom
CATEGORIES:NCU Junior League 3
END:VEVENT
END:VCALENDAR